BEGIN:VCALENDAR
VERSION:2.0
PRODID:-//Contratero//ES
CALSCALE:GREGORIAN
METHOD:PUBLISH
BEGIN:VEVENT
UID:2269/2024@contratero.es
DTSTAMP:20260419T145100Z
DTSTART:20250922T235959
DTEND:20250923T005959
SUMMARY:Cierre: Contratación del Mantenimiento del Software denomi
DESCRIPTION:Contratación del Mantenimiento del Software denominado DEPORWIN\\n\\nOrganismo: Alcaldia del Ayuntamiento de San Javier\\n\\nVer en Contratero: https://contratero.es/contracts/2269/2024
URL:https://contratero.es/contracts/2269/2024
STATUS:CONFIRMED
BEGIN:VALARM
TRIGGER:-P1D
ACTION:DISPLAY
DESCRIPTION:Recordatorio: Contratación del Mantenimiento
END:VALARM
END:VEVENT
END:VCALENDAR