BEGIN:VCALENDAR
VERSION:2.0
PRODID:-//Contratero//ES
CALSCALE:GREGORIAN
METHOD:PUBLISH
BEGIN:VEVENT
UID:227/2018@contratero.es
DTSTAMP:20260426T004001Z
DTSTART:20181212T235959
DTEND:20181213T005959
SUMMARY:Cierre: El objeto del contrato será la prestación del serv
DESCRIPTION:El objeto del contrato será la prestación del servicio mantenimiento de páginas webs\, gestión de redes sociales\, gabinete de comunicación\, y elaboración de dossiers de publicidad de la actividad del o...\\n\\nOrganismo: Presidencia del Organismo Autónomo de Fiestas y Actividades Recreativas del Excmo. Ayuntamiento de Santa Cruz de Tenerife\\n\\nVer en Contratero: https://contratero.es/contracts/227/2018
URL:https://contratero.es/contracts/227/2018
STATUS:CONFIRMED
BEGIN:VALARM
TRIGGER:-P1D
ACTION:DISPLAY
DESCRIPTION:Recordatorio: El objeto del contrato será la
END:VALARM
END:VEVENT
END:VCALENDAR