BEGIN:VCALENDAR
VERSION:2.0
PRODID:-//Contratero//ES
CALSCALE:GREGORIAN
METHOD:PUBLISH
BEGIN:VEVENT
UID:22840026700@contratero.es
DTSTAMP:20260424T092419Z
DTSTART:20220504T235959
DTEND:20220505T005959
SUMMARY:Cierre: Servicio de operación y seguimiento de la planific
DESCRIPTION:Servicio de operación y seguimiento de la planificación de trabajos “batch” para los centros de proceso de datos del Departamento de Informática Tributaria\\n\\nOrganismo: Dirección General de la Agencia Estatal de Administración Tributaria\\n\\nVer en Contratero: https://contratero.es/contracts/22840026700
URL:https://contratero.es/contracts/22840026700
STATUS:CONFIRMED
BEGIN:VALARM
TRIGGER:-P1D
ACTION:DISPLAY
DESCRIPTION:Recordatorio: Servicio de operación y seguim
END:VALARM
END:VEVENT
END:VCALENDAR