BEGIN:VCALENDAR
VERSION:2.0
PRODID:-//Contratero//ES
CALSCALE:GREGORIAN
METHOD:PUBLISH
BEGIN:VEVENT
UID:22840045400@contratero.es
DTSTAMP:20260422T174252Z
DTSTART:20220729T235959
DTEND:20220730T005959
SUMMARY:Cierre: Servicios de Atención Multicanal\, Calidad y Sistem
DESCRIPTION:Servicios de Atención Multicanal\, Calidad y Sistemas del CAT con destino a la AEAT\\n\\nOrganismo: Dirección General de la Agencia Estatal de Administración Tributaria\\n\\nVer en Contratero: https://contratero.es/contracts/22840045400
URL:https://contratero.es/contracts/22840045400
STATUS:CONFIRMED
BEGIN:VALARM
TRIGGER:-P1D
ACTION:DISPLAY
DESCRIPTION:Recordatorio: Servicios de Atención Multican
END:VALARM
END:VEVENT
END:VCALENDAR