BEGIN:VCALENDAR
VERSION:2.0
PRODID:-//Contratero//ES
CALSCALE:GREGORIAN
METHOD:PUBLISH
BEGIN:VEVENT
UID:23-2023@contratero.es
DTSTAMP:20260422T221210Z
DTSTART:20230427T235959
DTEND:20230428T005959
SUMMARY:Cierre: Mantenimiento de una licencia Red Hat Enterprise L
DESCRIPTION:Mantenimiento de una licencia Red Hat Enterprise Linux for Virtual Datacenters\\n\\nOrganismo: Gerencia del Centro Municipal de Informática de Málaga\\n\\nVer en Contratero: https://contratero.es/contracts/23-2023
URL:https://contratero.es/contracts/23-2023
STATUS:CONFIRMED
BEGIN:VALARM
TRIGGER:-P1D
ACTION:DISPLAY
DESCRIPTION:Recordatorio: Mantenimiento de una licencia 
END:VALARM
END:VEVENT
END:VCALENDAR