BEGIN:VCALENDAR
VERSION:2.0
PRODID:-//Contratero//ES
CALSCALE:GREGORIAN
METHOD:PUBLISH
BEGIN:VEVENT
UID:23.02.11/2024/0001@contratero.es
DTSTAMP:20260422T002012Z
DTSTART:20240226T235959
DTEND:20240227T005959
SUMMARY:Cierre: Mantenimiento de software de auditoría Fileaudit
DESCRIPTION:Mantenimiento de software de auditoría Fileaudit\\n\\nOrganismo: Alcaldía del Ayuntamiento de Villanueva de la Cañada\\n\\nVer en Contratero: https://contratero.es/contracts/23.02.11/2024/0001
URL:https://contratero.es/contracts/23.02.11/2024/0001
STATUS:CONFIRMED
BEGIN:VALARM
TRIGGER:-P1D
ACTION:DISPLAY
DESCRIPTION:Recordatorio: Mantenimiento de software de a
END:VALARM
END:VEVENT
END:VCALENDAR