BEGIN:VCALENDAR
VERSION:2.0
PRODID:-//Contratero//ES
CALSCALE:GREGORIAN
METHOD:PUBLISH
BEGIN:VEVENT
UID:23.02.11/2025/0050@contratero.es
DTSTAMP:20260420T175107Z
DTSTART:20260105T235959
DTEND:20260106T005959
SUMMARY:Cierre: Asistencia técnica para la elaboración del Plan de
DESCRIPTION:Asistencia técnica para la elaboración del Plan de Localización de la Agenda 2030\\n\\nOrganismo: Alcaldía del Ayuntamiento de Villanueva de la Cañada\\n\\nVer en Contratero: https://contratero.es/contracts/23.02.11/2025/0050
URL:https://contratero.es/contracts/23.02.11/2025/0050
STATUS:CONFIRMED
BEGIN:VALARM
TRIGGER:-P1D
ACTION:DISPLAY
DESCRIPTION:Recordatorio: Asistencia técnica para la ela
END:VALARM
END:VEVENT
END:VCALENDAR