BEGIN:VCALENDAR
VERSION:2.0
PRODID:-//Contratero//ES
CALSCALE:GREGORIAN
METHOD:PUBLISH
BEGIN:VEVENT
UID:23/001@contratero.es
DTSTAMP:20260424T031222Z
DTSTART:20220831T235959
DTEND:20220901T005959
SUMMARY:Cierre: Servicio de verificación documental de la identida
DESCRIPTION:Servicio de verificación documental de la identidad y datos aportados por los participantes en los juegos de SELAE\, así como trabajos de integración de este Servicio en los aplicativos software de SEL...\\n\\nOrganismo: Consejo de Administración de la Sociedad Estatal Loterías y Apuestas del ESTADO\, S.M.E.\, S.A.\\n\\nVer en Contratero: https://contratero.es/contracts/23/001
URL:https://contratero.es/contracts/23/001
STATUS:CONFIRMED
BEGIN:VALARM
TRIGGER:-P1D
ACTION:DISPLAY
DESCRIPTION:Recordatorio: Servicio de verificación docum
END:VALARM
END:VEVENT
END:VCALENDAR