BEGIN:VCALENDAR
VERSION:2.0
PRODID:-//Contratero//ES
CALSCALE:GREGORIAN
METHOD:PUBLISH
BEGIN:VEVENT
UID:23/010-11@contratero.es
DTSTAMP:20260423T231214Z
DTSTART:20240326T235959
DTEND:20240327T005959
SUMMARY:Cierre: Suministro de licencias Software Docuware
DESCRIPTION:Suministro de licencias Software Docuware\\n\\nOrganismo: Gerencia de Mutua Navarra\, Mutua de Accidentes de Trabajo y Enfermedades Profesionales de la Seguridad Social 21\\n\\nVer en Contratero: https://contratero.es/contracts/23/010-11
URL:https://contratero.es/contracts/23/010-11
STATUS:CONFIRMED
BEGIN:VALARM
TRIGGER:-P1D
ACTION:DISPLAY
DESCRIPTION:Recordatorio: Suministro de licencias Softwa
END:VALARM
END:VEVENT
END:VCALENDAR