BEGIN:VCALENDAR
VERSION:2.0
PRODID:-//Contratero//ES
CALSCALE:GREGORIAN
METHOD:PUBLISH
BEGIN:VEVENT
UID:23/010-14@contratero.es
DTSTAMP:20260424T083536Z
DTSTART:20240506T235959
DTEND:20240507T005959
SUMMARY:Cierre: Suministro de licencia VMWare Enterprise
DESCRIPTION:Suministro de licencia VMWare Enterprise\\n\\nOrganismo: Gerencia de Mutua Navarra\, Mutua de Accidentes de Trabajo y Enfermedades Profesionales de la Seguridad Social 21\\n\\nVer en Contratero: https://contratero.es/contracts/23/010-14
URL:https://contratero.es/contracts/23/010-14
STATUS:CONFIRMED
BEGIN:VALARM
TRIGGER:-P1D
ACTION:DISPLAY
DESCRIPTION:Recordatorio: Suministro de licencia VMWare 
END:VALARM
END:VEVENT
END:VCALENDAR