BEGIN:VCALENDAR
VERSION:2.0
PRODID:-//Contratero//ES
CALSCALE:GREGORIAN
METHOD:PUBLISH
BEGIN:VEVENT
UID:23/010-15@contratero.es
DTSTAMP:20260423T071213Z
DTSTART:20241125T235959
DTEND:20241126T005959
SUMMARY:Cierre: Suministro de suscripciones de Microsoft 365 a niv
DESCRIPTION:Suministro de suscripciones de Microsoft 365 a nivel servicio\\n\\nOrganismo: Gerencia de Mutua Navarra\, Mutua de Accidentes de Trabajo y Enfermedades Profesionales de la Seguridad Social 21\\n\\nVer en Contratero: https://contratero.es/contracts/23/010-15
URL:https://contratero.es/contracts/23/010-15
STATUS:CONFIRMED
BEGIN:VALARM
TRIGGER:-P1D
ACTION:DISPLAY
DESCRIPTION:Recordatorio: Suministro de suscripciones de
END:VALARM
END:VEVENT
END:VCALENDAR