BEGIN:VCALENDAR
VERSION:2.0
PRODID:-//Contratero//ES
CALSCALE:GREGORIAN
METHOD:PUBLISH
BEGIN:VEVENT
UID:23/010@contratero.es
DTSTAMP:20260422T113837Z
DTSTART:20280703T235959
DTEND:20280704T005959
SUMMARY:Cierre: Establecimiento de un sistema dinámico de adquisic
DESCRIPTION:Establecimiento de un sistema dinámico de adquisición (SDA) de licenciamiento software de Mutua Navarra\\n\\nOrganismo: Gerencia de Mutua Navarra\, Mutua de Accidentes de Trabajo y Enfermedades Profesionales de la Seguridad Social 21\\n\\nVer en Contratero: https://contratero.es/contracts/23/010
URL:https://contratero.es/contracts/23/010
STATUS:CONFIRMED
BEGIN:VALARM
TRIGGER:-P1D
ACTION:DISPLAY
DESCRIPTION:Recordatorio: Establecimiento de un sistema 
END:VALARM
END:VEVENT
END:VCALENDAR