BEGIN:VCALENDAR
VERSION:2.0
PRODID:-//Contratero//ES
CALSCALE:GREGORIAN
METHOD:PUBLISH
BEGIN:VEVENT
UID:23/08604@contratero.es
DTSTAMP:20260424T131032Z
DTSTART:20240216T235959
DTEND:20240217T005959
SUMMARY:Cierre: Suscripción de una licencia del producto Holiday D
DESCRIPTION:Suscripción de una licencia del producto Holiday Data Service (HDS3) con la empresa Copp Clark Limited\\n\\nOrganismo: Banco de España\\n\\nVer en Contratero: https://contratero.es/contracts/23/08604
URL:https://contratero.es/contracts/23/08604
STATUS:CONFIRMED
BEGIN:VALARM
TRIGGER:-P1D
ACTION:DISPLAY
DESCRIPTION:Recordatorio: Suscripción de una licencia de
END:VALARM
END:VEVENT
END:VCALENDAR