BEGIN:VCALENDAR
VERSION:2.0
PRODID:-//Contratero//ES
CALSCALE:GREGORIAN
METHOD:PUBLISH
BEGIN:VEVENT
UID:23/09037@contratero.es
DTSTAMP:20260422T194303Z
DTSTART:20231229T235959
DTEND:20231230T005959
SUMMARY:Cierre: Contratación del derecho de uso y soporte y manten
DESCRIPTION:Contratación del derecho de uso y soporte y mantenimiento de licencias de productos de software de gestión documental y digitalización de Opentext Documentum.\\n\\nOrganismo: Banco de España\\n\\nVer en Contratero: https://contratero.es/contracts/23/09037
URL:https://contratero.es/contracts/23/09037
STATUS:CONFIRMED
BEGIN:VALARM
TRIGGER:-P1D
ACTION:DISPLAY
DESCRIPTION:Recordatorio: Contratación del derecho de us
END:VALARM
END:VEVENT
END:VCALENDAR