BEGIN:VCALENDAR
VERSION:2.0
PRODID:-//Contratero//ES
CALSCALE:GREGORIAN
METHOD:PUBLISH
BEGIN:VEVENT
UID:23/119@contratero.es
DTSTAMP:20260423T080812Z
DTSTART:20230309T235959
DTEND:20230310T005959
SUMMARY:Cierre: Suministro de hardware para la renovación del sist
DESCRIPTION:Suministro de hardware para la renovación del sistema Híbrido Oracle exadata para los entornos de desarrollo y test\, así como servicios de instalación\, configuración y puesta en operación\, servicios d...\\n\\nOrganismo: Consejo de Administración de la Sociedad Estatal Loterías y Apuestas del ESTADO\, S.M.E.\, S.A.\\n\\nVer en Contratero: https://contratero.es/contracts/23/119
URL:https://contratero.es/contracts/23/119
STATUS:CONFIRMED
BEGIN:VALARM
TRIGGER:-P1D
ACTION:DISPLAY
DESCRIPTION:Recordatorio: Suministro de hardware para la
END:VALARM
END:VEVENT
END:VCALENDAR