BEGIN:VCALENDAR
VERSION:2.0
PRODID:-//Contratero//ES
CALSCALE:GREGORIAN
METHOD:PUBLISH
BEGIN:VEVENT
UID:23/14167@contratero.es
DTSTAMP:20260421T234219Z
DTSTART:20241223T235959
DTEND:20241224T005959
SUMMARY:Cierre: Servicios informáticos para la implementación\, man
DESCRIPTION:Servicios informáticos para la implementación\, mantenimiento y soporte de la aplicación de gestión de procesos de negocio (MIDAS) del Sepblac\\n\\nOrganismo: Banco de España\\n\\nVer en Contratero: https://contratero.es/contracts/23/14167
URL:https://contratero.es/contracts/23/14167
STATUS:CONFIRMED
BEGIN:VALARM
TRIGGER:-P1D
ACTION:DISPLAY
DESCRIPTION:Recordatorio: Servicios informáticos para la
END:VALARM
END:VEVENT
END:VCALENDAR