BEGIN:VCALENDAR
VERSION:2.0
PRODID:-//Contratero//ES
CALSCALE:GREGORIAN
METHOD:PUBLISH
BEGIN:VEVENT
UID:23/17326@contratero.es
DTSTAMP:20260426T035116Z
DTSTART:20230410T235959
DTEND:20230411T005959
SUMMARY:Cierre: Suministro de Software de investigación\, Abaqus / 
DESCRIPTION:Suministro de Software de investigación\, Abaqus / Simulia academic\, destinados\nal desarrollo del reto de “Smart Factory: Mejora de procesos”\, para el Centro de Innovación de Andalucía\,\nAlentejo y Alga...\\n\\nOrganismo: Rectorado de la Universidad de Sevilla\\n\\nVer en Contratero: https://contratero.es/contracts/23/17326
URL:https://contratero.es/contracts/23/17326
STATUS:CONFIRMED
BEGIN:VALARM
TRIGGER:-P1D
ACTION:DISPLAY
DESCRIPTION:Recordatorio: Suministro de Software de inve
END:VALARM
END:VEVENT
END:VCALENDAR