BEGIN:VCALENDAR
VERSION:2.0
PRODID:-//Contratero//ES
CALSCALE:GREGORIAN
METHOD:PUBLISH
BEGIN:VEVENT
UID:23/2020@contratero.es
DTSTAMP:20260424T235357Z
DTSTART:20210324T235959
DTEND:20210325T005959
SUMMARY:Cierre: Servicio de diseño e implantación de la Administra
DESCRIPTION:Servicio de diseño e implantación de la Administración Electrónica que facilite el cumplimiento de la obligaciones derivadas de la Ley 39/2015\, de 1 de octubre\, de Procedimiento Administrativo Común d...\\n\\nOrganismo: Junta de Gobierno Local del Ayuntamiento de San Fernando de Henares\\n\\nVer en Contratero: https://contratero.es/contracts/23/2020
URL:https://contratero.es/contracts/23/2020
STATUS:CONFIRMED
BEGIN:VALARM
TRIGGER:-P1D
ACTION:DISPLAY
DESCRIPTION:Recordatorio: Servicio de diseño e implantac
END:VALARM
END:VEVENT
END:VCALENDAR