BEGIN:VCALENDAR
VERSION:2.0
PRODID:-//Contratero//ES
CALSCALE:GREGORIAN
METHOD:PUBLISH
BEGIN:VEVENT
UID:23/208@contratero.es
DTSTAMP:20260424T190456Z
DTSTART:20230628T235959
DTEND:20230629T005959
SUMMARY:Cierre: Suministro de Software para análisis de calidad de
DESCRIPTION:Suministro de Software para análisis de calidad de software\, así como actualización de versiones del mismo\\n\\nOrganismo: Comisión de Contratación de la Sociedad Estatal Loterías y Apuestas del Estado\, S.M.E.\, S.A.\\n\\nVer en Contratero: https://contratero.es/contracts/23/208
URL:https://contratero.es/contracts/23/208
STATUS:CONFIRMED
BEGIN:VALARM
TRIGGER:-P1D
ACTION:DISPLAY
DESCRIPTION:Recordatorio: Suministro de Software para an
END:VALARM
END:VEVENT
END:VCALENDAR