BEGIN:VCALENDAR
VERSION:2.0
PRODID:-//Contratero//ES
CALSCALE:GREGORIAN
METHOD:PUBLISH
BEGIN:VEVENT
UID:23/213@contratero.es
DTSTAMP:20260422T150146Z
DTSTART:20230707T235959
DTEND:20230708T005959
SUMMARY:Cierre: Servicios de instalación\, configuración y mantenim
DESCRIPTION:Servicios de instalación\, configuración y mantenimiento del  Software y la Actualización de versiones\, así como el servicio de mantenimiento de todos los elementos de Hardware involucrados en la difus...\\n\\nOrganismo: Comisión de Contratación de la Sociedad Estatal Loterías y Apuestas del Estado\, S.M.E.\, S.A.\\n\\nVer en Contratero: https://contratero.es/contracts/23/213
URL:https://contratero.es/contracts/23/213
STATUS:CONFIRMED
BEGIN:VALARM
TRIGGER:-P1D
ACTION:DISPLAY
DESCRIPTION:Recordatorio: Servicios de instalación\, conf
END:VALARM
END:VEVENT
END:VCALENDAR