BEGIN:VCALENDAR
VERSION:2.0
PRODID:-//Contratero//ES
CALSCALE:GREGORIAN
METHOD:PUBLISH
BEGIN:VEVENT
UID:23/25@contratero.es
DTSTAMP:20260421T204348Z
DTSTART:20250930T235959
DTEND:20251001T005959
SUMMARY:Cierre: Servicio de adaptación del software actual del sis
DESCRIPTION:Servicio de adaptación del software actual del sistema de recarga\\n\\nOrganismo: Consejo de Administración de la Empresa Municipal de Transports Urbans de Palma\, S.A\\n\\nVer en Contratero: https://contratero.es/contracts/23/25
URL:https://contratero.es/contracts/23/25
STATUS:CONFIRMED
BEGIN:VALARM
TRIGGER:-P1D
ACTION:DISPLAY
DESCRIPTION:Recordatorio: Servicio de adaptación del sof
END:VALARM
END:VEVENT
END:VCALENDAR