BEGIN:VCALENDAR
VERSION:2.0
PRODID:-//Contratero//ES
CALSCALE:GREGORIAN
METHOD:PUBLISH
BEGIN:VEVENT
UID:23/31322@contratero.es
DTSTAMP:20260425T194500Z
DTSTART:20230707T235959
DTEND:20230708T005959
SUMMARY:Cierre: Suministro de una licencia de duración dos años de
DESCRIPTION:Suministro de una licencia de duración dos años del software iMotions Software Suite.\\n\\nOrganismo: Rectorado de la Universidad de Sevilla\\n\\nVer en Contratero: https://contratero.es/contracts/23/31322
URL:https://contratero.es/contracts/23/31322
STATUS:CONFIRMED
BEGIN:VALARM
TRIGGER:-P1D
ACTION:DISPLAY
DESCRIPTION:Recordatorio: Suministro de una licencia de 
END:VALARM
END:VEVENT
END:VCALENDAR