BEGIN:VCALENDAR
VERSION:2.0
PRODID:-//Contratero//ES
CALSCALE:GREGORIAN
METHOD:PUBLISH
BEGIN:VEVENT
UID:23254/2024@contratero.es
DTSTAMP:20260422T130536Z
DTSTART:20240904T235959
DTEND:20240905T005959
SUMMARY:Cierre: Servicio de mantenimiento y almacenamiento del pro
DESCRIPTION:Servicio de mantenimiento y almacenamiento del programa de la plataforma de administración electrónica Gestiona\\n\\nOrganismo: Junta de Gobierno del Ayuntamiento de Eivissa\\n\\nVer en Contratero: https://contratero.es/contracts/23254/2024
URL:https://contratero.es/contracts/23254/2024
STATUS:CONFIRMED
BEGIN:VALARM
TRIGGER:-P1D
ACTION:DISPLAY
DESCRIPTION:Recordatorio: Servicio de mantenimiento y al
END:VALARM
END:VEVENT
END:VCALENDAR