BEGIN:VCALENDAR
VERSION:2.0
PRODID:-//Contratero//ES
CALSCALE:GREGORIAN
METHOD:PUBLISH
BEGIN:VEVENT
UID:233/2021@contratero.es
DTSTAMP:20260419T143334Z
DTSTART:20220422T235959
DTEND:20220423T005959
SUMMARY:Cierre: Nombramiento delegado de protección de datos y dem
DESCRIPTION:Nombramiento delegado de protección de datos y demás servicios conexos relativos a la protección de datos del Ayuntamiento de Emperador\, 1 año\, prorrogable anualmente\, año a año\, por un número máximo ...\\n\\nOrganismo: Alcaldía del Ayuntamiento de Emperador\\n\\nVer en Contratero: https://contratero.es/contracts/233/2021
URL:https://contratero.es/contracts/233/2021
STATUS:CONFIRMED
BEGIN:VALARM
TRIGGER:-P1D
ACTION:DISPLAY
DESCRIPTION:Recordatorio: Nombramiento delegado de prote
END:VALARM
END:VEVENT
END:VCALENDAR