BEGIN:VCALENDAR
VERSION:2.0
PRODID:-//Contratero//ES
CALSCALE:GREGORIAN
METHOD:PUBLISH
BEGIN:VEVENT
UID:233/2023@contratero.es
DTSTAMP:20260421T025537Z
DTSTART:20230612T235959
DTEND:20230613T005959
SUMMARY:Cierre: Enajenación parcela industrial 61bis
DESCRIPTION:Enajenación parcela industrial 61bis\\n\\nOrganismo: Junta de Gobierno Local del Ayuntamiento de Camarena\\n\\nVer en Contratero: https://contratero.es/contracts/233/2023
URL:https://contratero.es/contracts/233/2023
STATUS:CONFIRMED
BEGIN:VALARM
TRIGGER:-P1D
ACTION:DISPLAY
DESCRIPTION:Recordatorio: Enajenación parcela industrial
END:VALARM
END:VEVENT
END:VCALENDAR