BEGIN:VCALENDAR
VERSION:2.0
PRODID:-//Contratero//ES
CALSCALE:GREGORIAN
METHOD:PUBLISH
BEGIN:VEVENT
UID:234-2023@contratero.es
DTSTAMP:20260425T014424Z
DTSTART:20231214T235959
DTEND:20231215T005959
SUMMARY:Cierre: Contratación de un servicio de consultoría para la
DESCRIPTION:Contratación de un servicio de consultoría para la conceptualización y desarrollo de las actividades de promoción de la zona de catas del Pabellón de España en el Salón du Fromage de París que tendrá ...\\n\\nOrganismo: Consejo de Administración de ICEX España Exportación e Inversiones\, E.P.E.\\n\\nVer en Contratero: https://contratero.es/contracts/234-2023
URL:https://contratero.es/contracts/234-2023
STATUS:CONFIRMED
BEGIN:VALARM
TRIGGER:-P1D
ACTION:DISPLAY
DESCRIPTION:Recordatorio: Contratación de un servicio de
END:VALARM
END:VEVENT
END:VCALENDAR