BEGIN:VCALENDAR
VERSION:2.0
PRODID:-//Contratero//ES
CALSCALE:GREGORIAN
METHOD:PUBLISH
BEGIN:VEVENT
UID:2351/2025@contratero.es
DTSTAMP:20260423T110435Z
DTSTART:20260114T235959
DTEND:20260115T005959
SUMMARY:Cierre: 2153/2025 "Oficina técnica de ciberseguridad\, serv
DESCRIPTION:2153/2025 "Oficina técnica de ciberseguridad\, servicios de apoyo y soporte al responsable de seguridad (CISO) y herramienta de GRC para GIAHSA"\\n\\nOrganismo: Comisión Ejecutiva de Gestión Integral del Agua de Huelva\\n\\nVer en Contratero: https://contratero.es/contracts/2351/2025
URL:https://contratero.es/contracts/2351/2025
STATUS:CONFIRMED
BEGIN:VALARM
TRIGGER:-P1D
ACTION:DISPLAY
DESCRIPTION:Recordatorio: 2153/2025 "Oficina técnica de 
END:VALARM
END:VEVENT
END:VCALENDAR