BEGIN:VCALENDAR
VERSION:2.0
PRODID:-//Contratero//ES
CALSCALE:GREGORIAN
METHOD:PUBLISH
BEGIN:VEVENT
UID:2377/2023@contratero.es
DTSTAMP:20260421T202854Z
DTSTART:20240404T235959
DTEND:20240405T005959
SUMMARY:Cierre: Suministro de Infraestructura y Red Interna para C
DESCRIPTION:Suministro de Infraestructura y Red Interna para Centros de Referencia del Ayuntamiento de Noja\,\\n\\nOrganismo: Alcaldía del Ayuntamiento de Noja\\n\\nVer en Contratero: https://contratero.es/contracts/2377/2023
URL:https://contratero.es/contracts/2377/2023
STATUS:CONFIRMED
BEGIN:VALARM
TRIGGER:-P1D
ACTION:DISPLAY
DESCRIPTION:Recordatorio: Suministro de Infraestructura 
END:VALARM
END:VEVENT
END:VCALENDAR