BEGIN:VCALENDAR
VERSION:2.0
PRODID:-//Contratero//ES
CALSCALE:GREGORIAN
METHOD:PUBLISH
BEGIN:VEVENT
UID:23PHC2IN0045@contratero.es
DTSTAMP:20260422T183016Z
DTSTART:20230721T235959
DTEND:20230722T005959
SUMMARY:Cierre: Servicio para la mejora de la puesta a disposición
DESCRIPTION:Servicio para la mejora de la puesta a disposición pública de la información geográfica\, Financiado por el Plan de Recuperación\, Transformación y Resiliencia Financiado Por La Unión Europea Next Gener...\\n\\nOrganismo: Junta de Contratación del Ministerio de Transportes\, Movilidad y Agenda Urbana\\n\\nVer en Contratero: https://contratero.es/contracts/23PHC2IN0045
URL:https://contratero.es/contracts/23PHC2IN0045
STATUS:CONFIRMED
BEGIN:VALARM
TRIGGER:-P1D
ACTION:DISPLAY
DESCRIPTION:Recordatorio: Servicio para la mejora de la 
END:VALARM
END:VEVENT
END:VCALENDAR