BEGIN:VCALENDAR
VERSION:2.0
PRODID:-//Contratero//ES
CALSCALE:GREGORIAN
METHOD:PUBLISH
BEGIN:VEVENT
UID:23exma-048@contratero.es
DTSTAMP:20260422T224209Z
DTSTART:20240102T235959
DTEND:20240103T005959
SUMMARY:Cierre: Desarrollo e implementación de nuevas funcionalida
DESCRIPTION:Desarrollo e implementación de nuevas funcionalidades y mantenimiento del Sistema Integral de Gestión Portuaria (PCS + PMS) del Puerto de Málaga\\n\\nOrganismo: Autoridad Portuaria de Málaga\\n\\nVer en Contratero: https://contratero.es/contracts/23exma-048
URL:https://contratero.es/contracts/23exma-048
STATUS:CONFIRMED
BEGIN:VALARM
TRIGGER:-P1D
ACTION:DISPLAY
DESCRIPTION:Recordatorio: Desarrollo e implementación de
END:VALARM
END:VEVENT
END:VCALENDAR