BEGIN:VCALENDAR
VERSION:2.0
PRODID:-//Contratero//ES
CALSCALE:GREGORIAN
METHOD:PUBLISH
BEGIN:VEVENT
UID:24-0018@contratero.es
DTSTAMP:20260420T150555Z
DTSTART:20250317T235959
DTEND:20250318T005959
SUMMARY:Cierre: Suscripción anual de acceso a base de datos y espa
DESCRIPTION:Suscripción anual de acceso a base de datos y espacio de publicación de ofertas de contratación y de empleo en Linkedin\\n\\nOrganismo: Gerencia de Mutua Navarra\, Mutua de Accidentes de Trabajo y Enfermedades Profesionales de la Seguridad Social 21\\n\\nVer en Contratero: https://contratero.es/contracts/24-0018
URL:https://contratero.es/contracts/24-0018
STATUS:CONFIRMED
BEGIN:VALARM
TRIGGER:-P1D
ACTION:DISPLAY
DESCRIPTION:Recordatorio: Suscripción anual de acceso a 
END:VALARM
END:VEVENT
END:VCALENDAR