BEGIN:VCALENDAR
VERSION:2.0
PRODID:-//Contratero//ES
CALSCALE:GREGORIAN
METHOD:PUBLISH
BEGIN:VEVENT
UID:24-08-SER-NEG@contratero.es
DTSTAMP:20260421T023937Z
DTSTART:20241023T235959
DTEND:20241024T005959
SUMMARY:Cierre: Servicio de soporte técnico y mantenimiento del so
DESCRIPTION:Servicio de soporte técnico y mantenimiento del software de nóminas y recursos humanos de la Asamblea de Extremadura.\\n\\nOrganismo: Mesa de la Asamblea de Extremadura\\n\\nVer en Contratero: https://contratero.es/contracts/24-08-SER-NEG
URL:https://contratero.es/contracts/24-08-SER-NEG
STATUS:CONFIRMED
BEGIN:VALARM
TRIGGER:-P1D
ACTION:DISPLAY
DESCRIPTION:Recordatorio: Servicio de soporte técnico y 
END:VALARM
END:VEVENT
END:VCALENDAR