BEGIN:VCALENDAR
VERSION:2.0
PRODID:-//Contratero//ES
CALSCALE:GREGORIAN
METHOD:PUBLISH
BEGIN:VEVENT
UID:24/0023-00@contratero.es
DTSTAMP:20260421T130230Z
DTSTART:20240705T235959
DTEND:20240706T005959
SUMMARY:Cierre: Mantenimiento aplicación informática eBDI PLUS®
DESCRIPTION:Mantenimiento aplicación informática eBDI PLUS®\\n\\nOrganismo: Fundació Banc de Sang i Teixits de les Illes Balears\\n\\nVer en Contratero: https://contratero.es/contracts/24/0023-00
URL:https://contratero.es/contracts/24/0023-00
STATUS:CONFIRMED
BEGIN:VALARM
TRIGGER:-P1D
ACTION:DISPLAY
DESCRIPTION:Recordatorio: Mantenimiento aplicación infor
END:VALARM
END:VEVENT
END:VCALENDAR