BEGIN:VCALENDAR
VERSION:2.0
PRODID:-//Contratero//ES
CALSCALE:GREGORIAN
METHOD:PUBLISH
BEGIN:VEVENT
UID:24/00525@contratero.es
DTSTAMP:20260422T061557Z
DTSTART:20240812T235959
DTEND:20240813T005959
SUMMARY:Cierre: Licencias y servicios de la Plataforma de Integrac
DESCRIPTION:Licencias y servicios de la Plataforma de Integración de Fuentes Externas de Información Financiera\\n\\nOrganismo: Banco de España\\n\\nVer en Contratero: https://contratero.es/contracts/24/00525
URL:https://contratero.es/contracts/24/00525
STATUS:CONFIRMED
BEGIN:VALARM
TRIGGER:-P1D
ACTION:DISPLAY
DESCRIPTION:Recordatorio: Licencias y servicios de la Pl
END:VALARM
END:VEVENT
END:VCALENDAR