BEGIN:VCALENDAR
VERSION:2.0
PRODID:-//Contratero//ES
CALSCALE:GREGORIAN
METHOD:PUBLISH
BEGIN:VEVENT
UID:24/02557@contratero.es
DTSTAMP:20260420T205115Z
DTSTART:20250127T235959
DTEND:20250128T005959
SUMMARY:Cierre: Servicios de soporte para el desarrollo\, mantenimi
DESCRIPTION:Servicios de soporte para el desarrollo\, mantenimiento y evolución de infraestructura Cloud para proyectos del Eurosistema.\\n\\nOrganismo: Banco de España\\n\\nVer en Contratero: https://contratero.es/contracts/24/02557
URL:https://contratero.es/contracts/24/02557
STATUS:CONFIRMED
BEGIN:VALARM
TRIGGER:-P1D
ACTION:DISPLAY
DESCRIPTION:Recordatorio: Servicios de soporte para el d
END:VALARM
END:VEVENT
END:VCALENDAR