BEGIN:VCALENDAR
VERSION:2.0
PRODID:-//Contratero//ES
CALSCALE:GREGORIAN
METHOD:PUBLISH
BEGIN:VEVENT
UID:24/031@contratero.es
DTSTAMP:20260425T014345Z
DTSTART:20231107T235959
DTEND:20231108T005959
SUMMARY:Cierre: Suministro y servicios asociados de soporte técnic
DESCRIPTION:Suministro y servicios asociados de soporte técnico y actualización de versiones de software para administración de SharePoint\\n\\nOrganismo: Comisión de Contratación de la Sociedad Estatal Loterías y Apuestas del Estado\, S.M.E.\, S.A.\\n\\nVer en Contratero: https://contratero.es/contracts/24/031
URL:https://contratero.es/contracts/24/031
STATUS:CONFIRMED
BEGIN:VALARM
TRIGGER:-P1D
ACTION:DISPLAY
DESCRIPTION:Recordatorio: Suministro y servicios asociad
END:VALARM
END:VEVENT
END:VCALENDAR