BEGIN:VCALENDAR
VERSION:2.0
PRODID:-//Contratero//ES
CALSCALE:GREGORIAN
METHOD:PUBLISH
BEGIN:VEVENT
UID:24/032@contratero.es
DTSTAMP:20260424T003432Z
DTSTART:20231106T235959
DTEND:20231107T005959
SUMMARY:Cierre: Actualización de la plataforma Sage XRT
DESCRIPTION:Actualización de la plataforma Sage XRT\\n\\nOrganismo: Comisión de Contratación de la Sociedad Estatal Loterías y Apuestas del Estado\, S.M.E.\, S.A.\\n\\nVer en Contratero: https://contratero.es/contracts/24/032
URL:https://contratero.es/contracts/24/032
STATUS:CONFIRMED
BEGIN:VALARM
TRIGGER:-P1D
ACTION:DISPLAY
DESCRIPTION:Recordatorio: Actualización de la plataforma
END:VALARM
END:VEVENT
END:VCALENDAR