BEGIN:VCALENDAR
VERSION:2.0
PRODID:-//Contratero//ES
CALSCALE:GREGORIAN
METHOD:PUBLISH
BEGIN:VEVENT
UID:24/32153@contratero.es
DTSTAMP:20260421T050553Z
DTSTART:20240710T235959
DTEND:20240711T005959
SUMMARY:Cierre: Diseño\, creación\, puesta en marcha y soporte post 
DESCRIPTION:Diseño\, creación\, puesta en marcha y soporte post implantación de la nueva web institucional de la Biblioteca de la Universidad de Sevilla.\\n\\nOrganismo: Rectorado de la Universidad de Sevilla\\n\\nVer en Contratero: https://contratero.es/contracts/24/32153
URL:https://contratero.es/contracts/24/32153
STATUS:CONFIRMED
BEGIN:VALARM
TRIGGER:-P1D
ACTION:DISPLAY
DESCRIPTION:Recordatorio: Diseño\, creación\, puesta en ma
END:VALARM
END:VEVENT
END:VCALENDAR