BEGIN:VCALENDAR
VERSION:2.0
PRODID:-//Contratero//ES
CALSCALE:GREGORIAN
METHOD:PUBLISH
BEGIN:VEVENT
UID:24/48118@contratero.es
DTSTAMP:20260423T085716Z
DTSTART:20241023T235959
DTEND:20241024T005959
SUMMARY:Cierre: Adquisición software específico (LibraryH3lp)
DESCRIPTION:Adquisición software específico (LibraryH3lp)\\n\\nOrganismo: Rectorado de la Universidad de Sevilla\\n\\nVer en Contratero: https://contratero.es/contracts/24/48118
URL:https://contratero.es/contracts/24/48118
STATUS:CONFIRMED
BEGIN:VALARM
TRIGGER:-P1D
ACTION:DISPLAY
DESCRIPTION:Recordatorio: Adquisición software específic
END:VALARM
END:VEVENT
END:VCALENDAR