BEGIN:VCALENDAR
VERSION:2.0
PRODID:-//Contratero//ES
CALSCALE:GREGORIAN
METHOD:PUBLISH
BEGIN:VEVENT
UID:24/66107(BAM)@contratero.es
DTSTAMP:20260423T085253Z
DTSTART:20241112T235959
DTEND:20241113T005959
SUMMARY:Cierre: Suministro de 30 licencias\npara la puesta en marc
DESCRIPTION:Suministro de 30 licencias\npara la puesta en marcha de una plataforma de desarrollo de software colaborativo Microsoft\nGitHub Enterprise Server para el Servicio de Informática y Comunicaciones\\n\\nOrganismo: Rectorado de la Universidad de Sevilla\\n\\nVer en Contratero: https://contratero.es/contracts/24/66107(BAM)
URL:https://contratero.es/contracts/24/66107(BAM)
STATUS:CONFIRMED
BEGIN:VALARM
TRIGGER:-P1D
ACTION:DISPLAY
DESCRIPTION:Recordatorio: Suministro de 30 licencias\npa
END:VALARM
END:VEVENT
END:VCALENDAR