BEGIN:VCALENDAR
VERSION:2.0
PRODID:-//Contratero//ES
CALSCALE:GREGORIAN
METHOD:PUBLISH
BEGIN:VEVENT
UID:241/2025@contratero.es
DTSTAMP:20260422T012139Z
DTSTART:20250320T235959
DTEND:20250321T005959
SUMMARY:Cierre: Mantenimiento de 18 cámaras de video vigilancia pa
DESCRIPTION:Mantenimiento de 18 cámaras de video vigilancia para el control y gestión de tráfico integradas al software appolo gestión policial de la Diputación de Almería\\n\\nOrganismo: Alcaldía del Ayuntamiento de Cantoria\\n\\nVer en Contratero: https://contratero.es/contracts/241/2025
URL:https://contratero.es/contracts/241/2025
STATUS:CONFIRMED
BEGIN:VALARM
TRIGGER:-P1D
ACTION:DISPLAY
DESCRIPTION:Recordatorio: Mantenimiento de 18 cámaras de
END:VALARM
END:VEVENT
END:VCALENDAR