BEGIN:VCALENDAR
VERSION:2.0
PRODID:-//Contratero//ES
CALSCALE:GREGORIAN
METHOD:PUBLISH
BEGIN:VEVENT
UID:242910PA0003@contratero.es
DTSTAMP:20260421T234408Z
DTSTART:20250130T235959
DTEND:20250131T005959
SUMMARY:Cierre: El objeto del presente contrato es el servicio par
DESCRIPTION:El objeto del presente contrato es el servicio para soporte de las actuaciones de la Subdirección General de Inspección del Juego en el marco de la homologación\, inspección y monitorización de los sis...\\n\\nOrganismo: Subdirección General de la Oficina Presupuestaria y Gestión Económica\\n\\nVer en Contratero: https://contratero.es/contracts/242910PA0003
URL:https://contratero.es/contracts/242910PA0003
STATUS:CONFIRMED
BEGIN:VALARM
TRIGGER:-P1D
ACTION:DISPLAY
DESCRIPTION:Recordatorio: El objeto del presente contrat
END:VALARM
END:VEVENT
END:VCALENDAR