BEGIN:VCALENDAR
VERSION:2.0
PRODID:-//Contratero//ES
CALSCALE:GREGORIAN
METHOD:PUBLISH
BEGIN:VEVENT
UID:243/2023@contratero.es
DTSTAMP:20260420T081947Z
DTSTART:20230713T235959
DTEND:20230714T005959
SUMMARY:Cierre: Digitalización y promoción comercial de marcas esp
DESCRIPTION:Digitalización y promoción comercial de marcas españolas de hábitat en la plataforma de PCON 2024.\\n\\nOrganismo: Consejo de Administración de ICEX España Exportación e Inversiones\, E.P.E.\\n\\nVer en Contratero: https://contratero.es/contracts/243/2023
URL:https://contratero.es/contracts/243/2023
STATUS:CONFIRMED
BEGIN:VALARM
TRIGGER:-P1D
ACTION:DISPLAY
DESCRIPTION:Recordatorio: Digitalización y promoción com
END:VALARM
END:VEVENT
END:VCALENDAR