BEGIN:VCALENDAR
VERSION:2.0
PRODID:-//Contratero//ES
CALSCALE:GREGORIAN
METHOD:PUBLISH
BEGIN:VEVENT
UID:24481/2023@contratero.es
DTSTAMP:20260422T223317Z
DTSTART:20230925T235959
DTEND:20230926T005959
SUMMARY:Cierre: Servicios de telecomunicaciones\, servicios horizon
DESCRIPTION:Servicios de telecomunicaciones\, servicios horizontales de ciberseguridad a través de un centro de operaciones de seguridad corporativo (soc) y el servicio de renovación del soporte de licencias de vi...\\n\\nOrganismo: Rectorado de la Universidad de Las Palmas de Gran Canaria\\n\\nVer en Contratero: https://contratero.es/contracts/24481/2023
URL:https://contratero.es/contracts/24481/2023
STATUS:CONFIRMED
BEGIN:VALARM
TRIGGER:-P1D
ACTION:DISPLAY
DESCRIPTION:Recordatorio: Servicios de telecomunicacione
END:VALARM
END:VEVENT
END:VCALENDAR