BEGIN:VCALENDAR
VERSION:2.0
PRODID:-//Contratero//ES
CALSCALE:GREGORIAN
METHOD:PUBLISH
BEGIN:VEVENT
UID:245aCM.24@contratero.es
DTSTAMP:20260422T233210Z
DTSTART:20241023T235959
DTEND:20241024T005959
SUMMARY:Cierre: Suministro de certificado SSL WildCard para el dom
DESCRIPTION:Suministro de certificado SSL WildCard para el dominio merida.es y sus subdominios durante los años 2024 y 2025\\n\\nOrganismo: Alcaldia del Ayuntamiento de Mérida\\n\\nVer en Contratero: https://contratero.es/contracts/245aCM.24
URL:https://contratero.es/contracts/245aCM.24
STATUS:CONFIRMED
BEGIN:VALARM
TRIGGER:-P1D
ACTION:DISPLAY
DESCRIPTION:Recordatorio: Suministro de certificado SSL 
END:VALARM
END:VEVENT
END:VCALENDAR