BEGIN:VCALENDAR
VERSION:2.0
PRODID:-//Contratero//ES
CALSCALE:GREGORIAN
METHOD:PUBLISH
BEGIN:VEVENT
UID:24840066800@contratero.es
DTSTAMP:20260422T094450Z
DTSTART:20241022T235959
DTEND:20241023T005959
SUMMARY:Cierre: Servicios de Gestión y Sistemas\, Mnto. y Desarroll
DESCRIPTION:Servicios de Gestión y Sistemas\, Mnto. y Desarrollo de Aplicaciones para el DIT en los ámbitos del Sistema de Análisis de la Información\, Big Data\, Minería de datos y Tecnologías del lenguaje\, a cargo...\\n\\nOrganismo: Dirección General de la Agencia Estatal de Administración Tributaria\\n\\nVer en Contratero: https://contratero.es/contracts/24840066800
URL:https://contratero.es/contracts/24840066800
STATUS:CONFIRMED
BEGIN:VALARM
TRIGGER:-P1D
ACTION:DISPLAY
DESCRIPTION:Recordatorio: Servicios de Gestión y Sistema
END:VALARM
END:VEVENT
END:VCALENDAR