BEGIN:VCALENDAR
VERSION:2.0
PRODID:-//Contratero//ES
CALSCALE:GREGORIAN
METHOD:PUBLISH
BEGIN:VEVENT
UID:24840073300@contratero.es
DTSTAMP:20260422T113429Z
DTSTART:20241015T235959
DTEND:20241016T005959
SUMMARY:Cierre: Servicios para el desarrollo\, gestión y mantenimie
DESCRIPTION:Servicios para el desarrollo\, gestión y mantenimiento de infraestructuras informáticas de los sistemas centralizados y de servicio a oficinas en el Departamento de Informática Tributaria de la Agencia...\\n\\nOrganismo: Dirección General de la Agencia Estatal de Administración Tributaria\\n\\nVer en Contratero: https://contratero.es/contracts/24840073300
URL:https://contratero.es/contracts/24840073300
STATUS:CONFIRMED
BEGIN:VALARM
TRIGGER:-P1D
ACTION:DISPLAY
DESCRIPTION:Recordatorio: Servicios para el desarrollo\, 
END:VALARM
END:VEVENT
END:VCALENDAR