BEGIN:VCALENDAR
VERSION:2.0
PRODID:-//Contratero//ES
CALSCALE:GREGORIAN
METHOD:PUBLISH
BEGIN:VEVENT
UID:249CM.25@contratero.es
DTSTAMP:20260423T062510Z
DTSTART:20251110T235959
DTEND:20251111T005959
SUMMARY:Cierre: La adquisición de nuevas licencias de la base de d
DESCRIPTION:La adquisición de nuevas licencias de la base de datos ORACLE Database Enterprise Edition y RAC (Real Application Cluster).\\n\\nOrganismo: Alcaldia del Ayuntamiento de Mérida\\n\\nVer en Contratero: https://contratero.es/contracts/249CM.25
URL:https://contratero.es/contracts/249CM.25
STATUS:CONFIRMED
BEGIN:VALARM
TRIGGER:-P1D
ACTION:DISPLAY
DESCRIPTION:Recordatorio: La adquisición de nuevas licen
END:VALARM
END:VEVENT
END:VCALENDAR