BEGIN:VCALENDAR
VERSION:2.0
PRODID:-//Contratero//ES
CALSCALE:GREGORIAN
METHOD:PUBLISH
BEGIN:VEVENT
UID:24exma-024@contratero.es
DTSTAMP:20260422T075254Z
DTSTART:20240730T235959
DTEND:20240731T005959
SUMMARY:Cierre: Servicio de implantación\, y mantenimiento de una p
DESCRIPTION:Servicio de implantación\, y mantenimiento de una plataforma de administración electrónica para la Autoridad Portuaria de Málaga\\n\\nOrganismo: Autoridad Portuaria de Málaga\\n\\nVer en Contratero: https://contratero.es/contracts/24exma-024
URL:https://contratero.es/contracts/24exma-024
STATUS:CONFIRMED
BEGIN:VALARM
TRIGGER:-P1D
ACTION:DISPLAY
DESCRIPTION:Recordatorio: Servicio de implantación\, y ma
END:VALARM
END:VEVENT
END:VCALENDAR