BEGIN:VCALENDAR
VERSION:2.0
PRODID:-//Contratero//ES
CALSCALE:GREGORIAN
METHOD:PUBLISH
BEGIN:VEVENT
UID:25-0012@contratero.es
DTSTAMP:20260422T182859Z
DTSTART:20250227T235959
DTEND:20250228T005959
SUMMARY:Cierre: Suscripción anual Jira Software (Cloud) Premium 50
DESCRIPTION:Suscripción anual Jira Software (Cloud) Premium 50 usuarios y 1 suscripción Power BI Connector for Jira Cloud\\n\\nOrganismo: Gerencia de Mutua Navarra\, Mutua de Accidentes de Trabajo y Enfermedades Profesionales de la Seguridad Social 21\\n\\nVer en Contratero: https://contratero.es/contracts/25-0012
URL:https://contratero.es/contracts/25-0012
STATUS:CONFIRMED
BEGIN:VALARM
TRIGGER:-P1D
ACTION:DISPLAY
DESCRIPTION:Recordatorio: Suscripción anual Jira Softwar
END:VALARM
END:VEVENT
END:VCALENDAR